BEGIN:VCALENDAR
VERSION:2.0
PRODID:-//Ma thérapie holistique - ECPv6.15.20//NONSGML v1.0//EN
CALSCALE:GREGORIAN
METHOD:PUBLISH
X-WR-CALNAME:Ma thérapie holistique
X-ORIGINAL-URL:https://matherapie-holistique.com
X-WR-CALDESC:Évènements pour Ma thérapie holistique
REFRESH-INTERVAL;VALUE=DURATION:PT1H
X-Robots-Tag:noindex
X-PUBLISHED-TTL:PT1H
BEGIN:VTIMEZONE
TZID:UTC
BEGIN:STANDARD
TZOFFSETFROM:+0000
TZOFFSETTO:+0000
TZNAME:UTC
DTSTART:20250101T000000
END:STANDARD
END:VTIMEZONE
BEGIN:VEVENT
DTSTART;TZID=UTC:20260605T133000
DTEND;TZID=UTC:20260605T153000
DTSTAMP:20260422T165722
CREATED:20250912T001521Z
LAST-MODIFIED:20250914T183519Z
UID:4798-1780666200-1780673400@matherapie-holistique.com
SUMMARY:Atelier découverte de l'auto-hypnose niveau initiation
DESCRIPTION:Les objectifs de cet atelier  : \n\nComprendre les Fondements de l’Auto-Hypnose : Apprendre les principes de base de l’auto-hypnose\, y compris son fonctionnement et ses avantages. Grâce à un enseignement pratique et des exercices guidés\, vous apprendrez à accéder à votre subconscient\, à dissoudre le stress\, à surmonter les obstacles mentaux et à créer des changements positifs durables.
URL:https://matherapie-holistique.com/event/atelier-decouverte-de-lauto-hypnose-niveau-initiation-2/
LOCATION:BOURRET\, Bourret\, 82700\, France
CATEGORIES:Atelier,Auto-hypnose
ATTACH;FMTTYPE=image/png:https://matherapie-holistique.com/wp-content/uploads/2023/09/Capture3-300x199-1-e1695324934577.png
END:VEVENT
BEGIN:VEVENT
DTSTART;TZID=UTC:20260618T140000
DTEND;TZID=UTC:20260618T160000
DTSTAMP:20260422T165722
CREATED:20250912T004832Z
LAST-MODIFIED:20250914T183655Z
UID:4811-1781791200-1781798400@matherapie-holistique.com
SUMMARY:Atelier découverte de l'auto-hypnose niveau 2
DESCRIPTION:Niveau 2 ( atteindre un objectif\, travail sur la confiance en soi) \nLes objectifs de cet atelier  : \n\nComprendre les Fondements de l’Auto-Hypnose : Apprendre les principes de base de l’auto-hypnose\, y compris son fonctionnement et ses avantages. Grâce à un enseignement pratique et des exercices guidés\, vous apprendrez à accéder à votre subconscient\, à dissoudre le stress\, à surmonter les obstacles mentaux et à créer des changements positifs durables.
URL:https://matherapie-holistique.com/event/atelier-decouverte-de-lauto-hypnose-niveau-2-3/
LOCATION:BOURRET\, Bourret\, 82700\, France
CATEGORIES:Atelier,Auto-hypnose
ATTACH;FMTTYPE=image/png:https://matherapie-holistique.com/wp-content/uploads/2023/09/Capture3-300x199-1-e1695324934577.png
ORGANIZER;CN="Laetitia VAIRO":MAILTO:healtitia@gmail.com
END:VEVENT
BEGIN:VEVENT
DTSTART;TZID=UTC:20260619T140000
DTEND;TZID=UTC:20260619T160000
DTSTAMP:20260422T165722
CREATED:20250913T233318Z
LAST-MODIFIED:20250914T172459Z
UID:4775-1781877600-1781884800@matherapie-holistique.com
SUMMARY:Atelier hypnose spirituelle et régressive 2H
DESCRIPTION:2H pour découvrir l’hypnose spirituelle en groupe\, grâce à un tarif préférentiel. Cette expérience\,  vous offrira un espace sécurisé et bienveillant pour explorer votre être intérieur. Vous serez guidé à travers des exercices d’hypnose\, de régression et de connexion spirituelle\, permettant ainsi une exploration en profondeur de votre être. \nN’hésitez pas à me contacter pour plus de renseignements
URL:https://matherapie-holistique.com/event/atelier-hypnose-spirituelle-et-regressive-2h/
LOCATION:BOURRET\, Bourret\, 82700\, France
CATEGORIES:Atelier,Découverte Hypnose spirituelle
ATTACH;FMTTYPE=image/jpeg:https://matherapie-holistique.com/wp-content/uploads/2022/12/library-e1734822834156.jpg
ORGANIZER;CN="Laetitia VAIRO":MAILTO:healtitia@gmail.com
END:VEVENT
END:VCALENDAR