BEGIN:VCALENDAR
VERSION:2.0
PRODID:-//Ma thérapie holistique - ECPv6.15.20//NONSGML v1.0//EN
CALSCALE:GREGORIAN
METHOD:PUBLISH
X-ORIGINAL-URL:https://matherapie-holistique.com
X-WR-CALDESC:Évènements pour Ma thérapie holistique
REFRESH-INTERVAL;VALUE=DURATION:PT1H
X-Robots-Tag:noindex
X-PUBLISHED-TTL:PT1H
BEGIN:VTIMEZONE
TZID:UTC
BEGIN:STANDARD
TZOFFSETFROM:+0000
TZOFFSETTO:+0000
TZNAME:UTC
DTSTART:20250101T000000
END:STANDARD
END:VTIMEZONE
BEGIN:VEVENT
DTSTART;TZID=UTC:20261118T093000
DTEND;TZID=UTC:20261118T113000
DTSTAMP:20260422T152848
CREATED:20241221T234240Z
LAST-MODIFIED:20250914T172811Z
UID:4779-1794994200-1795001400@matherapie-holistique.com
SUMMARY:Atelier hypnose spirituelle et régressive 2H
DESCRIPTION:2H pour découvrir l’hypnose spirituelle en groupe\, grâce à un tarif préférentiel. Cette expérience\,  vous offrira un espace sécurisé et bienveillant pour explorer votre être intérieur. Vous serez guidé à travers des exercices d’hypnose\, de régression et de connexion spirituelle\, permettant ainsi une exploration en profondeur de votre être. \nN’hésitez pas à me contacter pour plus de renseignements
URL:https://matherapie-holistique.com/event/atelier-hypnose-spirituelle-et-regressive-2h-3/
LOCATION:BOURRET\, Bourret\, 82700\, France
CATEGORIES:Atelier,Découverte Hypnose spirituelle,Hypnose régressive
ATTACH;FMTTYPE=image/jpeg:https://matherapie-holistique.com/wp-content/uploads/2022/12/library-e1734822834156.jpg
END:VEVENT
BEGIN:VEVENT
DTSTART;TZID=UTC:20261230T143000
DTEND;TZID=UTC:20261230T163000
DTSTAMP:20260422T152849
CREATED:20250914T171414Z
LAST-MODIFIED:20250914T171414Z
UID:5086-1798641000-1798648200@matherapie-holistique.com
SUMMARY:Atelier découverte de l'intuition - guidance
DESCRIPTION:Les objectifs de cet atelier  : \n\nDévelopper Votre Intuition : L’objectif principal de cet atelier est de vous aider à développer et à renforcer votre intuition. Vous apprendrez à reconnaître les signaux subtils de votre sixième sens et à faire confiance à vos impressions intuitives\, ce qui vous fournira une précieuse aide à la prise de décision dans votre vie personnelle et professionnelle. + Comment faire un tirage de cartes ( tarots ou oracles)
URL:https://matherapie-holistique.com/event/atelier-decouverte-de-lintuition-guidance-30-12-2026/
LOCATION:BOURRET\, Bourret\, 82700\, France
CATEGORIES:Atelier,Intuition et écoute de sa petite voix
ATTACH;FMTTYPE=image/jpeg:https://matherapie-holistique.com/wp-content/uploads/2022/12/main1-e1734830915917.jpg
ORGANIZER;CN="Laetitia VAIRO":MAILTO:healtitia@gmail.com
END:VEVENT
END:VCALENDAR