BEGIN:VCALENDAR
VERSION:2.0
PRODID:-//Ma thérapie holistique - ECPv6.15.20//NONSGML v1.0//EN
CALSCALE:GREGORIAN
METHOD:PUBLISH
X-WR-CALNAME:Ma thérapie holistique
X-ORIGINAL-URL:https://matherapie-holistique.com
X-WR-CALDESC:Évènements pour Ma thérapie holistique
REFRESH-INTERVAL;VALUE=DURATION:PT1H
X-Robots-Tag:noindex
X-PUBLISHED-TTL:PT1H
BEGIN:VTIMEZONE
TZID:UTC
BEGIN:STANDARD
TZOFFSETFROM:+0000
TZOFFSETTO:+0000
TZNAME:UTC
DTSTART:20240101T000000
END:STANDARD
END:VTIMEZONE
BEGIN:VEVENT
DTSTART;TZID=UTC:20251004T090000
DTEND;TZID=UTC:20251005T170000
DTSTAMP:20260422T081556
CREATED:20241221T145559Z
LAST-MODIFIED:20250917T125310Z
UID:4718-1759568400-1759683600@matherapie-holistique.com
SUMMARY:[complet] Formation magnétisme 1ère partie
DESCRIPTION:Cette formation offre une approche complète du magnétisme\, alliant théorie et pratique pour explorer une vaste gamme d’applications. Peu de formations comme celle-ci vous donnent accès à la fois aux connaissances traditionnelles et modernes. \nGrâce à cette formation\, vous acquerrez un savoir précieux et pratique qui vous accompagnera tout au long de votre vie. Vous pourrez immédiatement l’appliquer.
URL:https://matherapie-holistique.com/event/formation-magnetisme-1ere-partie-3/
LOCATION:BOURRET\, Bourret\, 82700\, France
CATEGORIES:Formation,Magnétisme
ATTACH;FMTTYPE=image/jpeg:https://matherapie-holistique.com/wp-content/uploads/2024/09/craiyon_202233_almighty_spirits_hear_our_prayer__take_our_hand_and_lead_us__teach_our_souls_now-e1734804999972.jpg
END:VEVENT
BEGIN:VEVENT
DTSTART;TZID=UTC:20251005T090000
DTEND;TZID=UTC:20251005T170000
DTSTAMP:20260422T081556
CREATED:20241221T203228Z
LAST-MODIFIED:20250917T125324Z
UID:4742-1759654800-1759683600@matherapie-holistique.com
SUMMARY:[complet] Initiation au Pendule
DESCRIPTION:Grâce à cet enseignement\, vous acquerrez une solide compréhension ainsi qu’une expérience pratique qui vous serviront tout au long de votre vie. \nVous serez en mesure de mettre immédiatement en pratique vos compétences dans une variété de contextes. Cette formation s’adresse à tous ceux qui sont passionnés par la découverte de leurs capacités intérieures.
URL:https://matherapie-holistique.com/event/initiation-au-pendule-2/
LOCATION:BOURRET\, Bourret\, 82700\, France
CATEGORIES:Initiation,Pendule
ATTACH;FMTTYPE=image/jpeg:https://matherapie-holistique.com/wp-content/uploads/2023/06/20221017_163419-scaled-e1734811935705.jpg
END:VEVENT
BEGIN:VEVENT
DTSTART;TZID=UTC:20251012T140000
DTEND;TZID=UTC:20251012T170000
DTSTAMP:20260422T081556
CREATED:20241222T015011Z
LAST-MODIFIED:20250914T154320Z
UID:4843-1760277600-1760288400@matherapie-holistique.com
SUMMARY:atelier-decouverte-de-lintuition-guidance
DESCRIPTION:Développer Votre Intuition : L’objectif principal de cet atelier est de vous aider à développer et à renforcer votre intuition. Vous apprendrez à reconnaître les signaux subtils de votre sixième sens et à faire confiance à vos impressions intuitives\, ce qui vous fournira une précieuse aide à la prise de décision dans votre vie personnelle et professionnelle. + Comment faire un tirage de cartes ( tarots ou oracles)
URL:https://matherapie-holistique.com/event/atelier-decouverte-de-lintuition-guidance-5/
CATEGORIES:Atelier,Intuition et écoute de sa petite voix
ATTACH;FMTTYPE=image/jpeg:https://matherapie-holistique.com/wp-content/uploads/2022/12/main1-e1734830915917.jpg
END:VEVENT
BEGIN:VEVENT
DTSTART;TZID=UTC:20251025T140000
DTEND;TZID=UTC:20251025T160000
DTSTAMP:20260422T081556
CREATED:20241222T003607Z
LAST-MODIFIED:20250917T125455Z
UID:4804-1761400800-1761408000@matherapie-holistique.com
SUMMARY:[reste 1 place] Atelier découverte de l'auto-hypnose niveau initiation
DESCRIPTION:Les objectifs de cet atelier  : \n\nComprendre les Fondements de l’Auto-Hypnose : Apprendre les principes de base de l’auto-hypnose\, y compris son fonctionnement et ses avantages. Grâce à un enseignement pratique et des exercices guidés\, vous apprendrez à accéder à votre subconscient\, à dissoudre le stress\, à surmonter les obstacles mentaux et à créer des changements positifs durables.
URL:https://matherapie-holistique.com/event/atelier-decouverte-de-lauto-hypnose-niveau-initiation-5/
LOCATION:BOURRET\, Bourret\, 82700\, France
CATEGORIES:Atelier,Auto-hypnose
ATTACH;FMTTYPE=image/png:https://matherapie-holistique.com/wp-content/uploads/2023/09/Capture3-300x199-1-e1695324934577.png
END:VEVENT
BEGIN:VEVENT
DTSTART;TZID=UTC:20251029T163000
DTEND;TZID=UTC:20251029T183000
DTSTAMP:20260422T081556
CREATED:20241221T234558Z
LAST-MODIFIED:20250914T155849Z
UID:4781-1761755400-1761762600@matherapie-holistique.com
SUMMARY:Atelier hypnose spirituelle et régressive 2H
DESCRIPTION:2H pour découvrir l’hypnose spirituelle en groupe\, grâce à un tarif préférentiel. Cette expérience\,  vous offrira un espace sécurisé et bienveillant pour explorer votre être intérieur. Vous serez guidé à travers des exercices d’hypnose\, de régression et de connexion spirituelle\, permettant ainsi une exploration en profondeur de votre être.
URL:https://matherapie-holistique.com/event/atelier-hypnose-spirituelle-et-regressive-2h-4/
LOCATION:BOURRET\, Bourret\, 82700\, France
CATEGORIES:Atelier,Découverte Hypnose spirituelle
ATTACH;FMTTYPE=image/jpeg:https://matherapie-holistique.com/wp-content/uploads/2022/12/library-e1734822834156.jpg
END:VEVENT
BEGIN:VEVENT
DTSTART;TZID=UTC:20251030T090000
DTEND;TZID=UTC:20251030T170000
DTSTAMP:20260422T081556
CREATED:20241221T141215Z
LAST-MODIFIED:20241221T141215Z
UID:4700-1761814800-1761843600@matherapie-holistique.com
SUMMARY:Initiation Reiki 2ème degré
DESCRIPTION:Le 2ème degré REIKI USUI s’adresse aux personnes désireuses de pratiquer le Reiki à distance. Ce degré ouvre un champ de perception complémentaire qui permet également d’envoyer de l’énergie à une situation afin d’en améliorer au mieux la finalité.
URL:https://matherapie-holistique.com/event/initiation-reiki-2eme-degre-3/
LOCATION:BOURRET\, Bourret\, 82700\, France
CATEGORIES:Initiation,Reiki 2ème Degré
ATTACH;FMTTYPE=image/jpeg:https://matherapie-holistique.com/wp-content/uploads/2023/09/IMG_20230704_153008-e1734804858639.jpg
END:VEVENT
END:VCALENDAR